BEGIN:VCALENDAR
PRODID:-//PUBBLE//agenda//NL
VERSION:2.0
METHOD:PUBLISH
BEGIN:VEVENT
DTSTART:20211113T083000Z
DTEND:20211113T103000Z
DTSTAMP:20260422T193054Z
UID:06565bfe-c8f3-47c6-a96a-966b00e9c36b
CREATED:20260422T193054Z
NAME:Contactochten voor mensen met MS bredavandaag.nl
X-WR-CALNAME:Contactochten voor mensen met MS
X-ALT-DESC;FMTTYPE=text/html:<a href='/agenda/2021/11/13/contactochten-voor-mensen-met-ms-347320'>/agenda/2021/11/13/contactochten-voor-mensen-met-ms-347320</a> || Wil je in contact komen met mensen met MS kom dan naar de bijeenkomst in Bavel.
De bijeenkomst is gratis, wordt georganiseerd door MSVN regio Brabant-West. 
Graag aanmelden via:&nbsp;secretariaat.msvn.brabantwest@gmail.com
DESCRIPTION:<a href='/agenda/2021/11/13/contactochten-voor-mensen-met-ms-347320'>/agenda/2021/11/13/contactochten-voor-mensen-met-ms-347320</a> || Wil je in contact komen met mensen met MS kom dan naar de bijeenkomst in Bavel.
De bijeenkomst is gratis, wordt georganiseerd door MSVN regio Brabant-West. 
Graag aanmelden via:&nbsp;secretariaat.msvn.brabantwest@gmail.com
LAST-MODIFIED:20260422T193054Z
LOCATION: Molen de Hoop | Schoutenlaan 75 Bavel
SEQUENCE:0
STATUS:CONFIRMED
SUMMARY:Contactochten voor mensen met MS
TRANSP:OPAQUE
END:VEVENT
END:VCALENDAR
