BEGIN:VCALENDAR
PRODID:-//PUBBLE//agenda//NL
VERSION:2.0
METHOD:PUBLISH
BEGIN:VEVENT
DTSTART:20211113T140000Z
DTEND:20211113T150000Z
DTSTAMP:20260422T175950Z
UID:8d07b8a9-009c-403d-b77c-43aea5f7f21d
CREATED:20260422T175950Z
NAME:Iris akoestische covers bredavandaag.nl
X-WR-CALNAME:Iris akoestische covers
X-ALT-DESC;FMTTYPE=text/html:<a href='/agenda/2021/11/13/iris-akoestische-covers-348417'>/agenda/2021/11/13/iris-akoestische-covers-348417</a> || <p>Het duo Iris&amp;James zal akoestisch optreden in het kader van live muziek op zaterdagmiddag wat eens in de maand wordt gehouden. Iris bekend vd band IRIS en James bekend vd band ROX worden ondersteund door Peter Bogaard op basgitaar.</p>
DESCRIPTION:<a href='/agenda/2021/11/13/iris-akoestische-covers-348417'>/agenda/2021/11/13/iris-akoestische-covers-348417</a> || <p>Het duo Iris&amp;James zal akoestisch optreden in het kader van live muziek op zaterdagmiddag wat eens in de maand wordt gehouden. Iris bekend vd band IRIS en James bekend vd band ROX worden ondersteund door Peter Bogaard op basgitaar.</p>
LAST-MODIFIED:20260422T175950Z
LOCATION: Café Het Hijgend Hert | Pasbaan 7 Breda
SEQUENCE:0
STATUS:CONFIRMED
SUMMARY:Iris akoestische covers
TRANSP:OPAQUE
END:VEVENT
END:VCALENDAR
