BEGIN:VCALENDAR
PRODID:-//PUBBLE//agenda//NL
VERSION:2.0
METHOD:PUBLISH
BEGIN:VEVENT
DTSTART:20211113T143000Z
DTEND:20211113T153000Z
DTSTAMP:20260422T180548Z
UID:c1fe6345-bdce-4129-acb5-e0a0a8625ee3
CREATED:20260422T180548Z
NAME:Presentatie jubileumboek Bosuilendorp bredavandaag.nl
X-WR-CALNAME:Presentatie jubileumboek Bosuilendorp
X-ALT-DESC;FMTTYPE=text/html:<a href='/agenda/2021/11/13/presentatie-jubileumboek-bosuilendorp-349158'>/agenda/2021/11/13/presentatie-jubileumboek-bosuilendorp-349158</a> || 13 november wordt om 15.30 uur het jubileumboek ‘55 jaar Carnaval in Bosuilendorp’ gepresenteerd. Dit is ook de laatste dag van de overzichtstentoonstelling over het Bosuilse Carnaval, die je dan nog tot 17.30 uur kunt bezoeken.
DESCRIPTION:<a href='/agenda/2021/11/13/presentatie-jubileumboek-bosuilendorp-349158'>/agenda/2021/11/13/presentatie-jubileumboek-bosuilendorp-349158</a> || 13 november wordt om 15.30 uur het jubileumboek ‘55 jaar Carnaval in Bosuilendorp’ gepresenteerd. Dit is ook de laatste dag van de overzichtstentoonstelling over het Bosuilse Carnaval, die je dan nog tot 17.30 uur kunt bezoeken.
LAST-MODIFIED:20260422T180548Z
LOCATION: Museum Paulus van Daesdonck | Pennendijk 1 Ulvenhout
SEQUENCE:0
STATUS:CONFIRMED
SUMMARY:Presentatie jubileumboek Bosuilendorp
TRANSP:OPAQUE
END:VEVENT
END:VCALENDAR
