BEGIN:VCALENDAR
PRODID:-//PUBBLE//agenda//NL
VERSION:2.0
METHOD:PUBLISH
BEGIN:VEVENT
DTSTART:20211108T112804Z
DTEND:20211113T130000Z
DTSTAMP:20260422T193612Z
UID:43fed748-eb02-46a9-bbc5-8be3a8f8df6b
CREATED:20260422T193612Z
NAME:Verkoop Kookboeken bredavandaag.nl
X-WR-CALNAME:Verkoop Kookboeken
X-ALT-DESC;FMTTYPE=text/html:<a href='/agenda/2021/11/13/verkoop-kookboeken-349233'>/agenda/2021/11/13/verkoop-kookboeken-349233</a> || <p>Vanuit een nalatenschap hebben wij de beschikking gekregen over ca 800 nieuwe en gebruikte kookboeken van zeer goede kwaliteit. Zaterdag 13 november vind de verkoop plaats in de oude brandweerkazerne aan de slotlaan 104A in Ulvenhout. De openingstijd is van 12.00 uur tot 15.00 uur. De entree is gratis en er zijn ruim voldoende parkeermogelijkheden. Dit alles in achtneming van de geldende coronaregels. Opbrengst gaat naar het goede doel.</p>
DESCRIPTION:<a href='/agenda/2021/11/13/verkoop-kookboeken-349233'>/agenda/2021/11/13/verkoop-kookboeken-349233</a> || <p>Vanuit een nalatenschap hebben wij de beschikking gekregen over ca 800 nieuwe en gebruikte kookboeken van zeer goede kwaliteit. Zaterdag 13 november vind de verkoop plaats in de oude brandweerkazerne aan de slotlaan 104A in Ulvenhout. De openingstijd is van 12.00 uur tot 15.00 uur. De entree is gratis en er zijn ruim voldoende parkeermogelijkheden. Dit alles in achtneming van de geldende coronaregels. Opbrengst gaat naar het goede doel.</p>
LAST-MODIFIED:20260422T193612Z
LOCATION: oude brandweerkazerne | Slotlaan 104a Ulvenhout
SEQUENCE:0
STATUS:CONFIRMED
SUMMARY:Verkoop Kookboeken
TRANSP:OPAQUE
END:VEVENT
END:VCALENDAR
