BEGIN:VCALENDAR
PRODID:-//PUBBLE//agenda//NL
VERSION:2.0
METHOD:PUBLISH
BEGIN:VEVENT
DTSTART:20221113T080000Z
DTEND:20220508T090000Z
DTSTAMP:20260422T070115Z
UID:59ba3e97-42f6-4dac-b6f8-314a30ae66ec
CREATED:20260422T070115Z
NAME:Kerkdiensten bredavandaag.nl
X-WR-CALNAME:Kerkdiensten
X-ALT-DESC;FMTTYPE=text/html:<a href='/agenda/2022/11/13/kerkdiensten-361876'>/agenda/2022/11/13/kerkdiensten-361876</a> || <p>Augustinusparochie: Lucaskerk: 9.00 uur; Franciscuskerk: zaterdag 19.00, zondag 10.30 uur; Willibrorduskerk 9.30 uur; Michaelkerk 11.00 uur.</p>
DESCRIPTION:<a href='/agenda/2022/11/13/kerkdiensten-361876'>/agenda/2022/11/13/kerkdiensten-361876</a> || <p>Augustinusparochie: Lucaskerk: 9.00 uur; Franciscuskerk: zaterdag 19.00, zondag 10.30 uur; Willibrorduskerk 9.30 uur; Michaelkerk 11.00 uur.</p>
LAST-MODIFIED:20260422T070115Z
LOCATION: Augustinusparochie Breda | Belgiëplein 6 Breda
SEQUENCE:0
STATUS:CONFIRMED
SUMMARY:Kerkdiensten
TRANSP:OPAQUE
END:VEVENT
END:VCALENDAR
