BEGIN:VCALENDAR
PRODID:-//PUBBLE//agenda//NL
VERSION:2.0
METHOD:PUBLISH
BEGIN:VEVENT
DTSTART:20221113T090000Z
DTEND:20221113T100000Z
DTSTAMP:20260422T071819Z
UID:35b13549-380d-4078-9da1-6fdef2faca3c
CREATED:20260422T071819Z
NAME:Theatertour Liselotte van Dooren & trio bredavandaag.nl
X-WR-CALNAME:Theatertour Liselotte van Dooren & trio
X-ALT-DESC;FMTTYPE=text/html:<a href='/agenda/2022/11/13/theatertour-liselotte-van-dooren-amp-trio-370942'>/agenda/2022/11/13/theatertour-liselotte-van-dooren-amp-trio-370942</a> || De Belgische country-pop zangeres Liselotte Van Dooren komt naar Nederland! Geïnspireerd door o.a. Ilse DeLange, voor wie ze in oktober de afterparty mag verzorgen, bracht Liselotte eind 2021 haar eerste album ‘49’ uit.
DESCRIPTION:<a href='/agenda/2022/11/13/theatertour-liselotte-van-dooren-amp-trio-370942'>/agenda/2022/11/13/theatertour-liselotte-van-dooren-amp-trio-370942</a> || De Belgische country-pop zangeres Liselotte Van Dooren komt naar Nederland! Geïnspireerd door o.a. Ilse DeLange, voor wie ze in oktober de afterparty mag verzorgen, bracht Liselotte eind 2021 haar eerste album ‘49’ uit.
LAST-MODIFIED:20260422T071819Z
LOCATION: De Avenue | Waterstraat 5 Breda
SEQUENCE:0
STATUS:CONFIRMED
SUMMARY:Theatertour Liselotte van Dooren & trio
TRANSP:OPAQUE
END:VEVENT
END:VCALENDAR
