BEGIN:VCALENDAR
PRODID:-//PUBBLE//agenda//NL
VERSION:2.0
METHOD:PUBLISH
BEGIN:VEVENT
DTSTART:20221113T073000Z
DTEND:20221113T083000Z
DTSTAMP:20260422T070816Z
UID:18cd0fa4-58b2-4da8-a1f7-4aa7c5e7a97f
CREATED:20260422T070816Z
NAME:Kerkdienst bredavandaag.nl
X-WR-CALNAME:Kerkdienst
X-ALT-DESC;FMTTYPE=text/html:<a href='/agenda/2022/11/13/kerkdienst-375290'>/agenda/2022/11/13/kerkdienst-375290</a> || <p>RK kerkdienst H.Maria Hemelvaartkerk: zondag 13 november 9.30u voorganger Thai Nguyen.</p>
DESCRIPTION:<a href='/agenda/2022/11/13/kerkdienst-375290'>/agenda/2022/11/13/kerkdienst-375290</a> || <p>RK kerkdienst H.Maria Hemelvaartkerk: zondag 13 november 9.30u voorganger Thai Nguyen.</p>
LAST-MODIFIED:20260422T070816Z
LOCATION: H. Maria Hemelvaartkerk | Brigidastraat 1 Bavel
SEQUENCE:0
STATUS:CONFIRMED
SUMMARY:Kerkdienst
TRANSP:OPAQUE
END:VEVENT
END:VCALENDAR
