BEGIN:VCALENDAR
PRODID:-//PUBBLE//agenda//NL
VERSION:2.0
METHOD:PUBLISH
BEGIN:VEVENT
DTSTART:20221108T101348Z
DTEND:20221108T111348Z
DTSTAMP:20260422T065736Z
UID:0b735b60-53ee-4807-acac-dcbdbbc5785a
CREATED:20260422T065736Z
NAME:Kerkdienst bredavandaag.nl
X-WR-CALNAME:Kerkdienst
X-ALT-DESC;FMTTYPE=text/html:<a href='/agenda/2022/11/13/kerkdienst-375497'>/agenda/2022/11/13/kerkdienst-375497</a> || <p>Protestantse Laurentiuskerk Ginneken: Zondag 13 november 10.00 u: Dienst van Schrift en Maaltijd van de Heer, voorganger ds. S. Dondorp, organist Gijs van Spankeren. De diensten in deze kerk zijn ook te beluisteren via kerkomroep.nl. De complete liturgie van de diensten staan op de website: Protestantsegemeenteginneken.nl onder “zondagdiensten”.</p>
DESCRIPTION:<a href='/agenda/2022/11/13/kerkdienst-375497'>/agenda/2022/11/13/kerkdienst-375497</a> || <p>Protestantse Laurentiuskerk Ginneken: Zondag 13 november 10.00 u: Dienst van Schrift en Maaltijd van de Heer, voorganger ds. S. Dondorp, organist Gijs van Spankeren. De diensten in deze kerk zijn ook te beluisteren via kerkomroep.nl. De complete liturgie van de diensten staan op de website: Protestantsegemeenteginneken.nl onder “zondagdiensten”.</p>
LAST-MODIFIED:20260422T065736Z
LOCATION: Laurentiuskerk | Duivelsbruglaan 1 Breda
SEQUENCE:0
STATUS:CONFIRMED
SUMMARY:Kerkdienst
TRANSP:OPAQUE
END:VEVENT
END:VCALENDAR
