BEGIN:VCALENDAR
PRODID:-//PUBBLE//agenda//NL
VERSION:2.0
METHOD:PUBLISH
BEGIN:VEVENT
DTSTART:20240918T120000Z
DTEND:20240918T140000Z
DTSTAMP:20260424T181100Z
UID:ec1a03fe-6b92-4c88-88a4-782caa30b24c
CREATED:20260424T181100Z
NAME:Longpunt Breda bredavandaag.nl
X-WR-CALNAME:Longpunt Breda
X-ALT-DESC;FMTTYPE=text/html:<a href='/agenda/2024/9/18/longpunt-breda-426115'>/agenda/2024/9/18/longpunt-breda-426115</a> || <p>In samenwerking met Beweego organiseren wij een longpunt over ademwerk bij longaandoeningen. Wat is een adempatroon? Hoe is jouw adempatroon? Wat zegt jouw adempatroon over jouw ademhaling? Wat is een normaal adempatroon? Welk effect heeft mijn longaandoening op mijn adempatroon? Hoe kan ik mijn adempatroon veranderen? Deze vragen worden allemaal beantwoord in deze informatieve lezing. We gaan theorie en praktijk combineren. Iedereen kan meedoen. Spreker: Sander van Ooijen, fysiotherapeut Fysiotherapiepraktijk Heusdenhout</p>
DESCRIPTION:<a href='/agenda/2024/9/18/longpunt-breda-426115'>/agenda/2024/9/18/longpunt-breda-426115</a> || <p>In samenwerking met Beweego organiseren wij een longpunt over ademwerk bij longaandoeningen. Wat is een adempatroon? Hoe is jouw adempatroon? Wat zegt jouw adempatroon over jouw ademhaling? Wat is een normaal adempatroon? Welk effect heeft mijn longaandoening op mijn adempatroon? Hoe kan ik mijn adempatroon veranderen? Deze vragen worden allemaal beantwoord in deze informatieve lezing. We gaan theorie en praktijk combineren. Iedereen kan meedoen. Spreker: Sander van Ooijen, fysiotherapeut Fysiotherapiepraktijk Heusdenhout</p>
LAST-MODIFIED:20260424T181100Z
LOCATION: PMC Heusdenhout | Wilderen 2 Breda
SEQUENCE:0
STATUS:CONFIRMED
SUMMARY:Longpunt Breda
TRANSP:OPAQUE
END:VEVENT
END:VCALENDAR
