BEGIN:VCALENDAR
PRODID:-//PUBBLE//agenda//NL
VERSION:2.0
METHOD:PUBLISH
BEGIN:VEVENT
DTSTART:20251107T180000Z
DTEND:20251107T203000Z
DTSTAMP:20260421T164543Z
UID:498053f9-00b9-4f2e-bb2a-501d02e4e980
CREATED:20260421T164543Z
NAME:Improvisatieshow Allure bredavandaag.nl
X-WR-CALNAME:Improvisatieshow Allure
X-ALT-DESC;FMTTYPE=text/html:<a href='/agenda/2025/11/7/improvisatieshow-allure-462179'>/agenda/2025/11/7/improvisatieshow-allure-462179</a> || <p>Op vrijdag 7 november speelt het Bredase Allure Geel een wedstrijd improvisatietheater tegen Iets Anders uit Utrecht bij Sound Dog in Breda! Verwacht een avond vol humor, verrassingen en verhalen die ter plekke ontstaan. Niets is voorbereid, alles gebeurt in het moment. Wanneer? Vrijdag 7 november 20.00 (inloop va 19.30) - 22.30 uur. Waar? Sound Dog, Oude Baan 8, Breda. Tickets? € 7,50. Kom lachen, genieten en laat je verrassen, jij bepaalt mee wat er gebeurt!</p>
DESCRIPTION:<a href='/agenda/2025/11/7/improvisatieshow-allure-462179'>/agenda/2025/11/7/improvisatieshow-allure-462179</a> || <p>Op vrijdag 7 november speelt het Bredase Allure Geel een wedstrijd improvisatietheater tegen Iets Anders uit Utrecht bij Sound Dog in Breda! Verwacht een avond vol humor, verrassingen en verhalen die ter plekke ontstaan. Niets is voorbereid, alles gebeurt in het moment. Wanneer? Vrijdag 7 november 20.00 (inloop va 19.30) - 22.30 uur. Waar? Sound Dog, Oude Baan 8, Breda. Tickets? € 7,50. Kom lachen, genieten en laat je verrassen, jij bepaalt mee wat er gebeurt!</p>
LAST-MODIFIED:20260421T164543Z
LOCATION: Sound Dog | Oude Baan 8 Breda
SEQUENCE:0
STATUS:CONFIRMED
SUMMARY:Improvisatieshow Allure
TRANSP:OPAQUE
END:VEVENT
END:VCALENDAR
