BEGIN:VCALENDAR
PRODID:-//PUBBLE//agenda//NL
VERSION:2.0
METHOD:PUBLISH
BEGIN:VEVENT
DTSTART:20251213T173000Z
DTEND:20251213T193000Z
DTSTAMP:20260423T155436Z
UID:558968e8-38aa-44e8-a2f4-f1c50135de66
CREATED:20260423T155436Z
NAME:Kerstzangavond... zing je mee? bredavandaag.nl
X-WR-CALNAME:Kerstzangavond... zing je mee?
X-ALT-DESC;FMTTYPE=text/html:<a href='/agenda/2025/12/13/kerstzangavond-zing-je-mee--464169'>/agenda/2025/12/13/kerstzangavond-zing-je-mee--464169</a> || <p>Op zaterdag 13 december om 19.30 uur houdt inloopcentrum De Lichtboei een kerstzangavond in de mooie Laurentiuskerk Ginneken, Duivelsbruglaan 1, Breda.</p><p>We gaan samen mooie kerstliederen zingen en Gert-Jan van Strien speelt mee op zijn trompet.</p><p>Heel graag komen de mannen van mannenkoor ‘De Lofzang’ uit Sprang-Capelle o.l.v. Dick de Jong (onze coördinator van het maaltijdproject) voor ons zingen.</p><p>En Jan Walhout vertelt ons iets over Kerst.</p><p>Na afloop schenken we warme chocolademelk/ koffie/ thee in mét een heerlijke stol!</p><p>We zien ernaar uit dat velen uit Breda de avond bezoeken! Zing je met ons mee?</p><p>Heb je vervoer nodig om er te komen? Bel 06 101 541 11 of 06 337 600 80.</p><p>Meer informatie: www.inloopdelichtboei.nl/kerst2025/</p>
DESCRIPTION:<a href='/agenda/2025/12/13/kerstzangavond-zing-je-mee--464169'>/agenda/2025/12/13/kerstzangavond-zing-je-mee--464169</a> || <p>Op zaterdag 13 december om 19.30 uur houdt inloopcentrum De Lichtboei een kerstzangavond in de mooie Laurentiuskerk Ginneken, Duivelsbruglaan 1, Breda.</p><p>We gaan samen mooie kerstliederen zingen en Gert-Jan van Strien speelt mee op zijn trompet.</p><p>Heel graag komen de mannen van mannenkoor ‘De Lofzang’ uit Sprang-Capelle o.l.v. Dick de Jong (onze coördinator van het maaltijdproject) voor ons zingen.</p><p>En Jan Walhout vertelt ons iets over Kerst.</p><p>Na afloop schenken we warme chocolademelk/ koffie/ thee in mét een heerlijke stol!</p><p>We zien ernaar uit dat velen uit Breda de avond bezoeken! Zing je met ons mee?</p><p>Heb je vervoer nodig om er te komen? Bel 06 101 541 11 of 06 337 600 80.</p><p>Meer informatie: www.inloopdelichtboei.nl/kerst2025/</p>
LAST-MODIFIED:20260423T155436Z
LOCATION: Protestantse Kerk Ginneken | Duivelsbruglaan 1 Breda
SEQUENCE:0
STATUS:CONFIRMED
SUMMARY:Kerstzangavond... zing je mee?
TRANSP:OPAQUE
END:VEVENT
END:VCALENDAR
