BEGIN:VCALENDAR
PRODID:-//PUBBLE//agenda//NL
VERSION:2.0
METHOD:PUBLISH
BEGIN:VEVENT
DTSTART:20260211T123430Z
DTEND:20260222T143000Z
DTSTAMP:20260422T085732Z
UID:1f2d938d-e4ff-4a41-87ec-0880b080975d
CREATED:20260422T085732Z
NAME:IVN-landschapswandeling Landgoederen Ulvenhout bredavandaag.nl
X-WR-CALNAME:IVN-landschapswandeling Landgoederen Ulvenhout
X-ALT-DESC;FMTTYPE=text/html:<a href='/agenda/2026/2/22/ivn-landschapswandeling-landgoederen-ulvenhout-468826'>/agenda/2026/2/22/ivn-landschapswandeling-landgoederen-ulvenhout-468826</a> || <p>Zondag 22 februari maken de natuurgidsen van IVN Mark &amp; Donge een lange wandeling over de oude landgoederen ten zuiden van Breda, Landgoederen Ulvenhout. Houd rekening met een stevig wandeltempo. De nadruk ligt echter altijd op het genieten van natuur en landschap, van geuren en kleuren en van planten en dieren die op ons pad komen. We kijken meer naar het geheel en minder naar de details in de natuur. Hier en daar geven we uitleg over natuurverschijnselen en vertellen iets over de historische achtergronden. Deze 20 km lange route denken wij in ongeveer 6 uur te lopen. Neem voldoende eten en drinken mee en let op het weerbericht, want in februari zijn allerlei weersomstandigheden mogelijk. Extra warme kleding, mutsen en handschoenen of regenkleding en waterdichte schoenen kunnen nodig zijn. Inschrijven is mogelijk tot op de dag van de wandeling. Na inschrijving ontvangt u informatie over de vertrekplaats. De wandeling start om 10:00 uur en duurt tot ongeveer 16:00/16:30 uur. Meer informatie en het inschrijfformulier kunt u vinden op de website van IVN Mark &amp; Donge onder Activiteiten</p>
DESCRIPTION:<a href='/agenda/2026/2/22/ivn-landschapswandeling-landgoederen-ulvenhout-468826'>/agenda/2026/2/22/ivn-landschapswandeling-landgoederen-ulvenhout-468826</a> || <p>Zondag 22 februari maken de natuurgidsen van IVN Mark &amp; Donge een lange wandeling over de oude landgoederen ten zuiden van Breda, Landgoederen Ulvenhout. Houd rekening met een stevig wandeltempo. De nadruk ligt echter altijd op het genieten van natuur en landschap, van geuren en kleuren en van planten en dieren die op ons pad komen. We kijken meer naar het geheel en minder naar de details in de natuur. Hier en daar geven we uitleg over natuurverschijnselen en vertellen iets over de historische achtergronden. Deze 20 km lange route denken wij in ongeveer 6 uur te lopen. Neem voldoende eten en drinken mee en let op het weerbericht, want in februari zijn allerlei weersomstandigheden mogelijk. Extra warme kleding, mutsen en handschoenen of regenkleding en waterdichte schoenen kunnen nodig zijn. Inschrijven is mogelijk tot op de dag van de wandeling. Na inschrijving ontvangt u informatie over de vertrekplaats. De wandeling start om 10:00 uur en duurt tot ongeveer 16:00/16:30 uur. Meer informatie en het inschrijfformulier kunt u vinden op de website van IVN Mark &amp; Donge onder Activiteiten</p>
LAST-MODIFIED:20260422T085732Z
LOCATION: IVN Mark & Donge |   Breda
SEQUENCE:0
STATUS:CONFIRMED
SUMMARY:IVN-landschapswandeling Landgoederen Ulvenhout
TRANSP:OPAQUE
END:VEVENT
END:VCALENDAR
