BEGIN:VCALENDAR
PRODID:-//PUBBLE//agenda//NL
VERSION:2.0
METHOD:PUBLISH
BEGIN:VEVENT
DTSTART:20260308T130000Z
DTEND:20260308T140000Z
DTSTAMP:20260420T093245Z
UID:994df465-1eb9-4b79-91a2-967a0a95b9f2
CREATED:20260420T093245Z
NAME:Ulvenhart Klassiek bredavandaag.nl
X-WR-CALNAME:Ulvenhart Klassiek
X-ALT-DESC;FMTTYPE=text/html:<a href='/agenda/2026/3/8/ulvenhart-klassiek-469320'>/agenda/2026/3/8/ulvenhart-klassiek-469320</a> || <p>Op zondag 8 maart aanvang 15:00 uur volgt in de serie Ulvenhart Klassiek voor jonge talentvolle musici, op de 2e zondag van de maand een optreden van Nicolas Absalom, piano. In de Prelude: Tristan Soeters, piano; Presentatie: Sebas Benes. Ontvangst vanaf 14.15 uur. Reserveren: <a data-fr-linked="true" href="mailto:info@ulvenhart.nl">info@ulvenhart.nl</a>.. T: 076-561 60 89. Entree: € 21,50 incl. programmablad en koffie/ thee en lekkernij vooraf. Heistraat 16, Ulvenhout AC, 4858 RL Breda/ Ulvenhout,&nbsp;<a href="http://www.ulvenhart.nl" target="_blank">www.ulvenhart.nl</a></p>
DESCRIPTION:<a href='/agenda/2026/3/8/ulvenhart-klassiek-469320'>/agenda/2026/3/8/ulvenhart-klassiek-469320</a> || <p>Op zondag 8 maart aanvang 15:00 uur volgt in de serie Ulvenhart Klassiek voor jonge talentvolle musici, op de 2e zondag van de maand een optreden van Nicolas Absalom, piano. In de Prelude: Tristan Soeters, piano; Presentatie: Sebas Benes. Ontvangst vanaf 14.15 uur. Reserveren: <a data-fr-linked="true" href="mailto:info@ulvenhart.nl">info@ulvenhart.nl</a>.. T: 076-561 60 89. Entree: € 21,50 incl. programmablad en koffie/ thee en lekkernij vooraf. Heistraat 16, Ulvenhout AC, 4858 RL Breda/ Ulvenhout,&nbsp;<a href="http://www.ulvenhart.nl" target="_blank">www.ulvenhart.nl</a></p>
LAST-MODIFIED:20260420T093245Z
LOCATION: Landgoed Ulvenhart | Heistraat 16 Ulvenhout
SEQUENCE:0
STATUS:CONFIRMED
SUMMARY:Ulvenhart Klassiek
TRANSP:OPAQUE
END:VEVENT
END:VCALENDAR
