BEGIN:VCALENDAR
PRODID:-//PUBBLE//agenda//NL
VERSION:2.0
METHOD:PUBLISH
BEGIN:VEVENT
DTSTART:20260304T121220Z
DTEND:20260407T090000Z
DTSTAMP:20260424T201814Z
UID:3d6705e0-e39c-4ab3-97e5-eb2464e0b42c
CREATED:20260424T201814Z
NAME:OldStars in de Wijk bredavandaag.nl
X-WR-CALNAME:OldStars in de Wijk
X-ALT-DESC;FMTTYPE=text/html:<a href='/agenda/2026/4/7/oldstars-in-de-wijk-470073'>/agenda/2026/4/7/oldstars-in-de-wijk-470073</a> || <p>Blijf in beweging, blijf genieten, doe mee met OldStars in de Wijk in Ulvenhout. Start 7 april. Wilt u gezond en fit ouder worden op een gezellige en laagdrempelige manier? Dan is OldStars in de Wijk bij Jeugdland Ulvenhout precies wat u zoekt! Locatie: Jeugdland 1, 4851 AT Ulvenhout; Wanneer: Elke dinsdag van 10.00-11.00 uur; Altijd in de buitenlucht, onder begeleiding van een professionele trainer. OldStars in de Wijk is speciaal ontwikkeld voor senioren die op een verantwoorde én gezellige manier willen bewegen. Of u nu veel of weinig sportervaring heeft: iedereen kan meedoen! Wat kunt u verwachten? Elke training is gevarieerd en opgebouwd uit: Een rustige warming-up, Balans- en coördinatieoefeningen, Kracht- en lenigheidstraining, Oefeningen voor het uithoudingsvermogen, Cognitiespellen, Een ontspannen cooling-down. Dit alles wordt aangeboden met muziek, leuke en afwisselende spellen en vooral: veel plezier. Een lach is gegarandeerd!</p>
DESCRIPTION:<a href='/agenda/2026/4/7/oldstars-in-de-wijk-470073'>/agenda/2026/4/7/oldstars-in-de-wijk-470073</a> || <p>Blijf in beweging, blijf genieten, doe mee met OldStars in de Wijk in Ulvenhout. Start 7 april. Wilt u gezond en fit ouder worden op een gezellige en laagdrempelige manier? Dan is OldStars in de Wijk bij Jeugdland Ulvenhout precies wat u zoekt! Locatie: Jeugdland 1, 4851 AT Ulvenhout; Wanneer: Elke dinsdag van 10.00-11.00 uur; Altijd in de buitenlucht, onder begeleiding van een professionele trainer. OldStars in de Wijk is speciaal ontwikkeld voor senioren die op een verantwoorde én gezellige manier willen bewegen. Of u nu veel of weinig sportervaring heeft: iedereen kan meedoen! Wat kunt u verwachten? Elke training is gevarieerd en opgebouwd uit: Een rustige warming-up, Balans- en coördinatieoefeningen, Kracht- en lenigheidstraining, Oefeningen voor het uithoudingsvermogen, Cognitiespellen, Een ontspannen cooling-down. Dit alles wordt aangeboden met muziek, leuke en afwisselende spellen en vooral: veel plezier. Een lach is gegarandeerd!</p>
LAST-MODIFIED:20260424T201814Z
LOCATION: Jeugdland | Jeugdland 1 Ulvenhout
SEQUENCE:0
STATUS:CONFIRMED
SUMMARY:OldStars in de Wijk
TRANSP:OPAQUE
END:VEVENT
END:VCALENDAR
