BEGIN:VCALENDAR
PRODID:-//PUBBLE//agenda//NL
VERSION:2.0
METHOD:PUBLISH
BEGIN:VEVENT
DTSTART:20260419T060000Z
DTEND:20260419T110000Z
DTSTAMP:20260420T022621Z
UID:42973f22-0bb1-4d3b-a522-346545d3139f
CREATED:20260420T022621Z
NAME:Rommelmarkt in De Nieuwe Meidoorn bredavandaag.nl
X-WR-CALNAME:Rommelmarkt in De Nieuwe Meidoorn
X-ALT-DESC;FMTTYPE=text/html:<a href='/agenda/2026/4/19/rommelmarkt-in-de-nieuwe-meidoorn-470969'>/agenda/2026/4/19/rommelmarkt-in-de-nieuwe-meidoorn-470969</a> || <p>Wees welkom bij de kleine gezellige rommelmarkt in De Nieuwe Meidoorn. Je kunt gewoon binnen lopen tussen 10:00 en 15:00 op zondag 19 april.</p>
DESCRIPTION:<a href='/agenda/2026/4/19/rommelmarkt-in-de-nieuwe-meidoorn-470969'>/agenda/2026/4/19/rommelmarkt-in-de-nieuwe-meidoorn-470969</a> || <p>Wees welkom bij de kleine gezellige rommelmarkt in De Nieuwe Meidoorn. Je kunt gewoon binnen lopen tussen 10:00 en 15:00 op zondag 19 april.</p>
LAST-MODIFIED:20260420T022621Z
LOCATION: De Nieuwe Meidoorn | Meidoornstraat 115 Breda
SEQUENCE:0
STATUS:CONFIRMED
SUMMARY:Rommelmarkt in De Nieuwe Meidoorn
TRANSP:OPAQUE
END:VEVENT
END:VCALENDAR
