BEGIN:VCALENDAR
PRODID:-//PUBBLE//agenda//NL
VERSION:2.0
METHOD:PUBLISH
BEGIN:VEVENT
DTSTART:20260331T163535Z
DTEND:20260331T173535Z
DTSTAMP:20260424T143107Z
UID:8b80f58f-edd7-465f-8ae9-eea570eeaac7
CREATED:20260424T143107Z
NAME:Beleef de magie van Kasteel Bouvigne bredavandaag.nl
X-WR-CALNAME:Beleef de magie van Kasteel Bouvigne
X-ALT-DESC;FMTTYPE=text/html:<a href='/agenda/2026/4/24/beleef-de-magie-van-kasteel-bouvigne-471851'>/agenda/2026/4/24/beleef-de-magie-van-kasteel-bouvigne-471851</a> || <p>Een wandeling vol verhalen. Beleef de rust en schoonheid binnen het kasteel, waar de stadsgids verhaalt over het kasteel en haar bewoners. Vervolgens een rondleiding door de drie karakteristieke stijltuinen met verhalen en uitleg door de natuurgids. Vrijdag 24 april 14.00 uur. Uitsluitend door digitale aanmelding en voor informatie zie: www.gildebaronie.nl/kasteel-bouvigne-wandeling/&nbsp;</p>
DESCRIPTION:<a href='/agenda/2026/4/24/beleef-de-magie-van-kasteel-bouvigne-471851'>/agenda/2026/4/24/beleef-de-magie-van-kasteel-bouvigne-471851</a> || <p>Een wandeling vol verhalen. Beleef de rust en schoonheid binnen het kasteel, waar de stadsgids verhaalt over het kasteel en haar bewoners. Vervolgens een rondleiding door de drie karakteristieke stijltuinen met verhalen en uitleg door de natuurgids. Vrijdag 24 april 14.00 uur. Uitsluitend door digitale aanmelding en voor informatie zie: www.gildebaronie.nl/kasteel-bouvigne-wandeling/&nbsp;</p>
LAST-MODIFIED:20260424T143107Z
LOCATION: Kasteel Bouvigne | Bouvignelaan 5 Breda
SEQUENCE:0
STATUS:CONFIRMED
SUMMARY:Beleef de magie van Kasteel Bouvigne
TRANSP:OPAQUE
END:VEVENT
END:VCALENDAR
