BEGIN:VCALENDAR
PRODID:-//PUBBLE//agenda//NL
VERSION:2.0
METHOD:PUBLISH
BEGIN:VEVENT
DTSTART:20260422T173000Z
DTEND:20260422T203000Z
DTSTAMP:20260421T141337Z
UID:ec5be7c4-d3fa-4166-919e-a76d31e617f9
CREATED:20260421T141337Z
NAME:Het gele uur Constant Permeke 2 bredavandaag.nl
X-WR-CALNAME:Het gele uur Constant Permeke 2
X-ALT-DESC;FMTTYPE=text/html:<a href='/agenda/2026/4/22/het-gele-uur-constant-permeke-2-472120'>/agenda/2026/4/22/het-gele-uur-constant-permeke-2-472120</a> || <p>In april 2026 geeft Marc Permeke twee presentaties over het werk van zijn beroemde grootvader: Constant Permeke – Grootmeester van de eenvoud. In een tweeluik vertelt hij over het leven en ontwikkelingen in de schilderskunst van zijn grootvader.Constant Permeke is een van de beroemdste Belgische schilders van de 20e eeuw.Centraal staat de mens en zijn relatie met de natuur. Op woensdagavond 22 april is het tweede deel van het tweeluik over Constant Permeke. In de jaren 20 is er voor Constant Permeke een doorbraak in de internationale kunstwereld. Eenmaal gevestigd in Jabbeke richt hij zich op de West- Vlaamse boerenbevolking en wordt de emotionele lading nog intenser.In mei brengt de Museumclub brengt een bezoek aan dit museum in Jabbeke. De kroon op zijn werk was de grote retrospectieve tentoonstelling in Parijs in 1947 – 48. Op 4 januari 1952 overlijdt Constant Permeke.&nbsp;</p><p>Entree € 9,00 Entree Vriend van het Gele Huis € 7,50&nbsp;</p>
DESCRIPTION:<a href='/agenda/2026/4/22/het-gele-uur-constant-permeke-2-472120'>/agenda/2026/4/22/het-gele-uur-constant-permeke-2-472120</a> || <p>In april 2026 geeft Marc Permeke twee presentaties over het werk van zijn beroemde grootvader: Constant Permeke – Grootmeester van de eenvoud. In een tweeluik vertelt hij over het leven en ontwikkelingen in de schilderskunst van zijn grootvader.Constant Permeke is een van de beroemdste Belgische schilders van de 20e eeuw.Centraal staat de mens en zijn relatie met de natuur. Op woensdagavond 22 april is het tweede deel van het tweeluik over Constant Permeke. In de jaren 20 is er voor Constant Permeke een doorbraak in de internationale kunstwereld. Eenmaal gevestigd in Jabbeke richt hij zich op de West- Vlaamse boerenbevolking en wordt de emotionele lading nog intenser.In mei brengt de Museumclub brengt een bezoek aan dit museum in Jabbeke. De kroon op zijn werk was de grote retrospectieve tentoonstelling in Parijs in 1947 – 48. Op 4 januari 1952 overlijdt Constant Permeke.&nbsp;</p><p>Entree € 9,00 Entree Vriend van het Gele Huis € 7,50&nbsp;</p>
LAST-MODIFIED:20260421T141337Z
LOCATION: Het Gele Huis | Haagsemarkt 6 Breda
SEQUENCE:0
STATUS:CONFIRMED
SUMMARY:Het gele uur Constant Permeke 2
TRANSP:OPAQUE
END:VEVENT
END:VCALENDAR
