BEGIN:VCALENDAR
PRODID:-//PUBBLE//agenda//NL
VERSION:2.0
METHOD:PUBLISH
BEGIN:VEVENT
DTSTART:20260418T120000Z
DTEND:20260418T140000Z
DTSTAMP:20260420T141131Z
UID:90c9eb70-4d6e-4239-b775-340eae725256
CREATED:20260420T141131Z
NAME:Muziekmiddag bredavandaag.nl
X-WR-CALNAME:Muziekmiddag
X-ALT-DESC;FMTTYPE=text/html:<a href='/agenda/2026/4/18/muziekmiddag-472124'>/agenda/2026/4/18/muziekmiddag-472124</a> || <p>Muziekkapel De Droelen organiseert een muzikale middag met leuke Duitse-Tsjechische en Böhmische blaasmuziek. Gastoptreden van Ut GAK koor uit Breda meet hun repertoire van bekende levensliedjes. Gratis entree</p>
DESCRIPTION:<a href='/agenda/2026/4/18/muziekmiddag-472124'>/agenda/2026/4/18/muziekmiddag-472124</a> || <p>Muziekkapel De Droelen organiseert een muzikale middag met leuke Duitse-Tsjechische en Böhmische blaasmuziek. Gastoptreden van Ut GAK koor uit Breda meet hun repertoire van bekende levensliedjes. Gratis entree</p>
LAST-MODIFIED:20260420T141131Z
LOCATION: De Zilverberk | Schoolstraat 9 Prinsenbeek
SEQUENCE:0
STATUS:CONFIRMED
SUMMARY:Muziekmiddag
TRANSP:OPAQUE
END:VEVENT
END:VCALENDAR
