BEGIN:VCALENDAR
PRODID:-//PUBBLE//agenda//NL
VERSION:2.0
METHOD:PUBLISH
BEGIN:VEVENT
DTSTART:20260418T180000Z
DTEND:20260418T000000Z
DTSTAMP:20260420T140808Z
UID:9ae2d7e0-046d-4793-8aa4-d0303947a4ae
CREATED:20260420T140808Z
NAME:De Plaag en Gijsjaradijsja bredavandaag.nl
X-WR-CALNAME:De Plaag en Gijsjaradijsja
X-ALT-DESC;FMTTYPE=text/html:<a href='/agenda/2026/4/18/de-plaag-en-gijsjaradijsja-472196'>/agenda/2026/4/18/de-plaag-en-gijsjaradijsja-472196</a> || <p>De Plaag en Gijsjaradijsja zijn twee opvallende muzikale acts die de Nederlandse muziekscene veroveren met hun unieke stijlen.&nbsp;</p><p>De Plaag, een nieuwe supergroep uit Dordrecht, combineert electro pop, hiphop en punk tot een explosieve mix die het publiek telkens weet te verrassen. Met ervaren bandleden van Het Gezelschap, Scotch en Nova Novella heeft De Plaag een indrukwekkende impact gehad, vooral na een succesvol debuutjaar met optredens op diverse festivals en de release van hun debuutalbum “Voorspel” op 31 januari 2025.&nbsp;</p><p>Aan de andere kant brengt Gijsjaradijsja, die eerder viral ging met Pokémon-parodieën, een mix van kleinkunst en punk. De Gijsjaradijsja Band biedt snel tempo en een variëteit aan instrumenten, terwijl ze Nederlandstalige nummers over existentiële en maatschappelijke thema’s opvoeren. Beide acts beloven een unieke muzikale ervaring met hun eigen, gedurfde benadering van de podiumkunst.</p><p>Tickets zijn nu beschikbaar via de website van Poppodium Phoenix.&nbsp;</p>
DESCRIPTION:<a href='/agenda/2026/4/18/de-plaag-en-gijsjaradijsja-472196'>/agenda/2026/4/18/de-plaag-en-gijsjaradijsja-472196</a> || <p>De Plaag en Gijsjaradijsja zijn twee opvallende muzikale acts die de Nederlandse muziekscene veroveren met hun unieke stijlen.&nbsp;</p><p>De Plaag, een nieuwe supergroep uit Dordrecht, combineert electro pop, hiphop en punk tot een explosieve mix die het publiek telkens weet te verrassen. Met ervaren bandleden van Het Gezelschap, Scotch en Nova Novella heeft De Plaag een indrukwekkende impact gehad, vooral na een succesvol debuutjaar met optredens op diverse festivals en de release van hun debuutalbum “Voorspel” op 31 januari 2025.&nbsp;</p><p>Aan de andere kant brengt Gijsjaradijsja, die eerder viral ging met Pokémon-parodieën, een mix van kleinkunst en punk. De Gijsjaradijsja Band biedt snel tempo en een variëteit aan instrumenten, terwijl ze Nederlandstalige nummers over existentiële en maatschappelijke thema’s opvoeren. Beide acts beloven een unieke muzikale ervaring met hun eigen, gedurfde benadering van de podiumkunst.</p><p>Tickets zijn nu beschikbaar via de website van Poppodium Phoenix.&nbsp;</p>
LAST-MODIFIED:20260420T140808Z
LOCATION: Poppodium Phoenix | Industriekade 5 Breda
SEQUENCE:0
STATUS:CONFIRMED
SUMMARY:De Plaag en Gijsjaradijsja
TRANSP:OPAQUE
END:VEVENT
END:VCALENDAR
