BEGIN:VCALENDAR
PRODID:-//PUBBLE//agenda//NL
VERSION:2.0
METHOD:PUBLISH
BEGIN:VEVENT
DTSTART:20260408T110542Z
DTEND:20260419T133000Z
DTSTAMP:20260420T141230Z
UID:e5e6cfdd-2236-42c6-b7ad-dd43573a122f
CREATED:20260420T141230Z
NAME:IVN-poëziewandeling Goudbergven, Strijbeek bredavandaag.nl
X-WR-CALNAME:IVN-poëziewandeling Goudbergven, Strijbeek
X-ALT-DESC;FMTTYPE=text/html:<a href='/agenda/2026/4/19/ivn-poeziewandeling-goudbergven-strijbeek-472278'>/agenda/2026/4/19/ivn-poeziewandeling-goudbergven-strijbeek-472278</a> || <p>Zondag 19 april nemen de natuurgidsen van IVN Mark &amp; Donge u mee voor een poëtische wandeling in een bijzonder natuurgebied. Het Goudbergven wordt door sommigen “het mooiste ven van Brabant’ genoemd. We lopen dus door een natuurgebied dat lyrisch stemt. We maken deze wandeling nog wat poëtischer door zo nu en dan een dichter aan het woord te laten over natuurverschijnselen die we tegenkomen. Het is een klein, maar bijzonder natuurgebied, tussen de Strijbeekse Heide en het dal van de Strijbeekse Beek. Het ven is omgeven door een hoefijzervormig stuifduin, een paraboolduin. In het midden ligt een hoogveeneiland, een drijvend eiland dat met de waterstanden op en neer gaat.&nbsp;</p><p>In de jaren vijftig van de vorige eeuw waren er plannen om van dit gebied landbouwgrond te maken. Het duin zou worden afgegraven en het ven gedempt. Enkele natuurkenners hebben toen met succes aan de bel getrokken. Staatsbosbeheer heeft het unieke gebiedje nog juist op tijd aan kunnen kopen, waardoor de bijzondere natuur behouden kon blijven. Rond het ven vinden we bos met zowel loof- als naaldbomen. Er groeien stuiken als sporkehout en gagel en planten die onze bescherming verdienen. Watervogels, zoals de kuifeend en de dodaars zijn hier altijd wel te zien.&nbsp;</p><p>Inschrijven is mogelijk tot op de dag van de wandeling. Na inschrijving ontvangt u informatie over de vertrekplaats.</p><p>De wandeling start om 13:30 uur en duurt tot ongeveer 15:30 uur.</p><p>Meer informatie en het inschrijfformulier kunt u vinden op de website van IVN Mark &amp; Donge onder Activiteiten.</p>
DESCRIPTION:<a href='/agenda/2026/4/19/ivn-poeziewandeling-goudbergven-strijbeek-472278'>/agenda/2026/4/19/ivn-poeziewandeling-goudbergven-strijbeek-472278</a> || <p>Zondag 19 april nemen de natuurgidsen van IVN Mark &amp; Donge u mee voor een poëtische wandeling in een bijzonder natuurgebied. Het Goudbergven wordt door sommigen “het mooiste ven van Brabant’ genoemd. We lopen dus door een natuurgebied dat lyrisch stemt. We maken deze wandeling nog wat poëtischer door zo nu en dan een dichter aan het woord te laten over natuurverschijnselen die we tegenkomen. Het is een klein, maar bijzonder natuurgebied, tussen de Strijbeekse Heide en het dal van de Strijbeekse Beek. Het ven is omgeven door een hoefijzervormig stuifduin, een paraboolduin. In het midden ligt een hoogveeneiland, een drijvend eiland dat met de waterstanden op en neer gaat.&nbsp;</p><p>In de jaren vijftig van de vorige eeuw waren er plannen om van dit gebied landbouwgrond te maken. Het duin zou worden afgegraven en het ven gedempt. Enkele natuurkenners hebben toen met succes aan de bel getrokken. Staatsbosbeheer heeft het unieke gebiedje nog juist op tijd aan kunnen kopen, waardoor de bijzondere natuur behouden kon blijven. Rond het ven vinden we bos met zowel loof- als naaldbomen. Er groeien stuiken als sporkehout en gagel en planten die onze bescherming verdienen. Watervogels, zoals de kuifeend en de dodaars zijn hier altijd wel te zien.&nbsp;</p><p>Inschrijven is mogelijk tot op de dag van de wandeling. Na inschrijving ontvangt u informatie over de vertrekplaats.</p><p>De wandeling start om 13:30 uur en duurt tot ongeveer 15:30 uur.</p><p>Meer informatie en het inschrijfformulier kunt u vinden op de website van IVN Mark &amp; Donge onder Activiteiten.</p>
LAST-MODIFIED:20260420T141230Z
LOCATION: IVN Mark & Donge |   Breda
SEQUENCE:0
STATUS:CONFIRMED
SUMMARY:IVN-poëziewandeling Goudbergven, Strijbeek
TRANSP:OPAQUE
END:VEVENT
END:VCALENDAR
