BEGIN:VCALENDAR
PRODID:-//PUBBLE//agenda//NL
VERSION:2.0
METHOD:PUBLISH
BEGIN:VEVENT
DTSTART:20260419T080000Z
DTEND:20260419T120000Z
DTSTAMP:20260420T022912Z
UID:b91ca937-5e2f-468e-8312-49874cfa73be
CREATED:20260420T022912Z
NAME:Mercatino Porta Sud bredavandaag.nl
X-WR-CALNAME:Mercatino Porta Sud
X-ALT-DESC;FMTTYPE=text/html:<a href='/agenda/2026/4/19/mercatino-porta-sud-472456'>/agenda/2026/4/19/mercatino-porta-sud-472456</a> || <p>Met de komst van het voorjaar organiseren we op zondag 19 april opnieuw een ‘tweedehands’ markt van 10:00 tot 14:00. Hier verkopen we, samen met anderen, ongebruikte keukenmaterialen, kookboeken, servies en glaswerk. Geniet ook van een drankje en lekkere hapjes van onze chef. Kom gezellig langs! Tot zondag de 19e! </p>
DESCRIPTION:<a href='/agenda/2026/4/19/mercatino-porta-sud-472456'>/agenda/2026/4/19/mercatino-porta-sud-472456</a> || <p>Met de komst van het voorjaar organiseren we op zondag 19 april opnieuw een ‘tweedehands’ markt van 10:00 tot 14:00. Hier verkopen we, samen met anderen, ongebruikte keukenmaterialen, kookboeken, servies en glaswerk. Geniet ook van een drankje en lekkere hapjes van onze chef. Kom gezellig langs! Tot zondag de 19e! </p>
LAST-MODIFIED:20260420T022912Z
LOCATION: Porta Sud  | Passage Zuidpoort 10 Breda
SEQUENCE:0
STATUS:CONFIRMED
SUMMARY:Mercatino Porta Sud
TRANSP:OPAQUE
END:VEVENT
END:VCALENDAR
