BEGIN:VCALENDAR
PRODID:-//PUBBLE//agenda//NL
VERSION:2.0
METHOD:PUBLISH
BEGIN:VEVENT
DTSTART:20260418T170000Z
DTEND:20260418T180000Z
DTSTAMP:20260420T141055Z
UID:adb2dc85-f7fd-4202-91e9-965b78c51a94
CREATED:20260420T141055Z
NAME:Kerkdiensten zaterdag bredavandaag.nl
X-WR-CALNAME:Kerkdiensten zaterdag
X-ALT-DESC;FMTTYPE=text/html:<a href='/agenda/2026/4/18/kerkdiensten-zaterdag-472484'>/agenda/2026/4/18/kerkdiensten-zaterdag-472484</a> || <p>Franciscuskerk: 19.00 uur Eucharistieviering. Voorganger: pater Rian s.v.d.</p>
DESCRIPTION:<a href='/agenda/2026/4/18/kerkdiensten-zaterdag-472484'>/agenda/2026/4/18/kerkdiensten-zaterdag-472484</a> || <p>Franciscuskerk: 19.00 uur Eucharistieviering. Voorganger: pater Rian s.v.d.</p>
LAST-MODIFIED:20260420T141055Z
LOCATION: Augustinusparochie Breda | Belgiëplein 6 Breda
SEQUENCE:0
STATUS:CONFIRMED
SUMMARY:Kerkdiensten zaterdag
TRANSP:OPAQUE
END:VEVENT
END:VCALENDAR
