BEGIN:VCALENDAR
PRODID:-//PUBBLE//agenda//NL
VERSION:2.0
METHOD:PUBLISH
BEGIN:VEVENT
DTSTART:20260419T070000Z
DTEND:20260419T120000Z
DTSTAMP:20260420T023156Z
UID:0900e137-d25b-4611-9e84-1823a99db71e
CREATED:20260420T023156Z
NAME:Kerkdiensten zondag bredavandaag.nl
X-WR-CALNAME:Kerkdiensten zondag
X-ALT-DESC;FMTTYPE=text/html:<a href='/agenda/2026/4/19/kerkdiensten-zondag-472485'>/agenda/2026/4/19/kerkdiensten-zondag-472485</a> || <p>Lucaskerk: 09.00 uur Eucharistieviering (pater Richard s.v.d. en diaken V. de Haas)</p><p>Willibrorduskerk: 09.30 uur Eucharistieviering (pater Rian s.v.d.)</p><p>Franciscuskerk: 10.30 uur Eucharistieviering (pater Richard s.v.d. en diaken V. de Haas)</p><p>Michaelkerk: 11.00 uur Eucharistieviering (pater Rian s.v.d.); 13.00 uur Eucharistieviering (Engelstalig) (pater Rian s.v.d.)</p>
DESCRIPTION:<a href='/agenda/2026/4/19/kerkdiensten-zondag-472485'>/agenda/2026/4/19/kerkdiensten-zondag-472485</a> || <p>Lucaskerk: 09.00 uur Eucharistieviering (pater Richard s.v.d. en diaken V. de Haas)</p><p>Willibrorduskerk: 09.30 uur Eucharistieviering (pater Rian s.v.d.)</p><p>Franciscuskerk: 10.30 uur Eucharistieviering (pater Richard s.v.d. en diaken V. de Haas)</p><p>Michaelkerk: 11.00 uur Eucharistieviering (pater Rian s.v.d.); 13.00 uur Eucharistieviering (Engelstalig) (pater Rian s.v.d.)</p>
LAST-MODIFIED:20260420T023156Z
LOCATION: Augustinusparochie Breda | Belgiëplein 6 Breda
SEQUENCE:0
STATUS:CONFIRMED
SUMMARY:Kerkdiensten zondag
TRANSP:OPAQUE
END:VEVENT
END:VCALENDAR
