BEGIN:VCALENDAR
PRODID:-//PUBBLE//agenda//NL
VERSION:2.0
METHOD:PUBLISH
BEGIN:VEVENT
DTSTART:20260425T150000Z
DTEND:20260425T180000Z
DTSTAMP:20260420T061432Z
UID:f42edbeb-0029-49ca-badc-95c88d866b42
CREATED:20260420T061432Z
NAME:Kerkdiensten zaterdag bredavandaag.nl
X-WR-CALNAME:Kerkdiensten zaterdag
X-ALT-DESC;FMTTYPE=text/html:<a href='/agenda/2026/4/25/kerkdiensten-zaterdag-472486'>/agenda/2026/4/25/kerkdiensten-zaterdag-472486</a> || <p>Kapel Maria Mater Dei: 17.00 uur Vesperviering (voorganger: diaken Vincent de Haas)</p><p>Franciscuskerk: 19.00 uur Eucharistieviering (voorganger: pater Richard s.v.d.)</p>
DESCRIPTION:<a href='/agenda/2026/4/25/kerkdiensten-zaterdag-472486'>/agenda/2026/4/25/kerkdiensten-zaterdag-472486</a> || <p>Kapel Maria Mater Dei: 17.00 uur Vesperviering (voorganger: diaken Vincent de Haas)</p><p>Franciscuskerk: 19.00 uur Eucharistieviering (voorganger: pater Richard s.v.d.)</p>
LAST-MODIFIED:20260420T061432Z
LOCATION: Augustinusparochie Breda | Belgiëplein 6 Breda
SEQUENCE:0
STATUS:CONFIRMED
SUMMARY:Kerkdiensten zaterdag
TRANSP:OPAQUE
END:VEVENT
END:VCALENDAR
