BEGIN:VCALENDAR
PRODID:-//PUBBLE//agenda//NL
VERSION:2.0
METHOD:PUBLISH
BEGIN:VEVENT
DTSTART:20260426T070000Z
DTEND:20260426T120000Z
DTSTAMP:20260420T061716Z
UID:cded4f74-c695-4da6-9da5-31511a350a5f
CREATED:20260420T061716Z
NAME:Kerkdiensten zondag bredavandaag.nl
X-WR-CALNAME:Kerkdiensten zondag
X-ALT-DESC;FMTTYPE=text/html:<a href='/agenda/2026/4/26/kerkdiensten-zondag-472487'>/agenda/2026/4/26/kerkdiensten-zondag-472487</a> || 
DESCRIPTION:<a href='/agenda/2026/4/26/kerkdiensten-zondag-472487'>/agenda/2026/4/26/kerkdiensten-zondag-472487</a> || 
LAST-MODIFIED:20260420T061716Z
LOCATION: Augustinusparochie Breda | Belgiëplein 6 Breda
SEQUENCE:0
STATUS:CONFIRMED
SUMMARY:Kerkdiensten zondag
TRANSP:OPAQUE
END:VEVENT
END:VCALENDAR
