BEGIN:VCALENDAR
PRODID:-//PUBBLE//agenda//NL
VERSION:2.0
METHOD:PUBLISH
BEGIN:VEVENT
DTSTART:20260424T070000Z
DTEND:20260424T153000Z
DTSTAMP:20260424T142800Z
UID:f9b17432-d4fa-4691-a685-75cd451e6ce6
CREATED:20260424T142800Z
NAME:Naar ‘In den Bockenreyder’| Gilde bredavandaag.nl
X-WR-CALNAME:Naar ‘In den Bockenreyder’| Gilde
X-ALT-DESC;FMTTYPE=text/html:<a href='/agenda/2026/4/24/naar-in-den-bockenreyder-gilde-472550'>/agenda/2026/4/24/naar-in-den-bockenreyder-gilde-472550</a> || <p>Vandaag gaan we op bezoek bij ‘In den Bockenreyder’. Deze herberg is uniek gelegen op het landgoed ‘De Utrecht’.&nbsp;</p><p>‘Vlakbè de venne en midde in de bosse van Esbeek. Binne wordt nog zand op de vloere gestrooid, net as vrûger. De natuur in al zun bonte kleure. Ge kunt hier fèèn wandele, fietse en ôk perdrije, as ge oew èège perd meebrengt. En ge kunt lekker ötruste op ons grôôt terras of bè ut knapperend vûrke van dun openhaard’. &nbsp;Aldus den Bockenryder.</p><p>We doorkruisen ook het landgoed Gorp en Rovert. Een hele mooie route en welkome aanvulling op ons programma dit jaar.</p><p>Vanwege de afstand van ruim 90 km starten we een uurtje eerder dan normaal: 09.00 uur bij het Speelbos!</p>
DESCRIPTION:<a href='/agenda/2026/4/24/naar-in-den-bockenreyder-gilde-472550'>/agenda/2026/4/24/naar-in-den-bockenreyder-gilde-472550</a> || <p>Vandaag gaan we op bezoek bij ‘In den Bockenreyder’. Deze herberg is uniek gelegen op het landgoed ‘De Utrecht’.&nbsp;</p><p>‘Vlakbè de venne en midde in de bosse van Esbeek. Binne wordt nog zand op de vloere gestrooid, net as vrûger. De natuur in al zun bonte kleure. Ge kunt hier fèèn wandele, fietse en ôk perdrije, as ge oew èège perd meebrengt. En ge kunt lekker ötruste op ons grôôt terras of bè ut knapperend vûrke van dun openhaard’. &nbsp;Aldus den Bockenryder.</p><p>We doorkruisen ook het landgoed Gorp en Rovert. Een hele mooie route en welkome aanvulling op ons programma dit jaar.</p><p>Vanwege de afstand van ruim 90 km starten we een uurtje eerder dan normaal: 09.00 uur bij het Speelbos!</p>
LAST-MODIFIED:20260424T142800Z
LOCATION: speelbos Bouvigne | Bouvignedreef  Breda
SEQUENCE:0
STATUS:CONFIRMED
SUMMARY:Naar ‘In den Bockenreyder’| Gilde
TRANSP:OPAQUE
END:VEVENT
END:VCALENDAR
