BEGIN:VCALENDAR
PRODID:-//PUBBLE//agenda//NL
VERSION:2.0
METHOD:PUBLISH
BEGIN:VEVENT
DTSTART:20260415T101654Z
DTEND:20260415T111654Z
DTSTAMP:20260425T145809Z
UID:50ee9c0b-4068-46f2-93b5-5cb3441b40e9
CREATED:20260425T145809Z
NAME:IVN-dorpsplantenwandeling bredavandaag.nl
X-WR-CALNAME:IVN-dorpsplantenwandeling
X-ALT-DESC;FMTTYPE=text/html:<a href='/agenda/2026/4/25/ivn-dorpsplantenwandeling-472685'>/agenda/2026/4/25/ivn-dorpsplantenwandeling-472685</a> || <p>Zaterdag 25 april wandelen de natuurgidsen van IVN Mark &amp; Donge door Terheijden op zoek naar vroege stoepplanten. Laat u verrassen door wat er aan natuur te vinden is op parkeerterreinen, in gootjes en tussen de keien in Terheijden. Inschrijven is mogelijk tot op de dag van de wandeling. Na inschrijving ontvangt u informatie over de vertrekplaats. De wandeling start om 13:30 uur en duurt tot ongeveer 15:00/15:30 uur. Meer informatie en het inschrijfformulier kunt u vinden op de website van IVN Mark &amp; Donge onder Activiteiten.</p>
DESCRIPTION:<a href='/agenda/2026/4/25/ivn-dorpsplantenwandeling-472685'>/agenda/2026/4/25/ivn-dorpsplantenwandeling-472685</a> || <p>Zaterdag 25 april wandelen de natuurgidsen van IVN Mark &amp; Donge door Terheijden op zoek naar vroege stoepplanten. Laat u verrassen door wat er aan natuur te vinden is op parkeerterreinen, in gootjes en tussen de keien in Terheijden. Inschrijven is mogelijk tot op de dag van de wandeling. Na inschrijving ontvangt u informatie over de vertrekplaats. De wandeling start om 13:30 uur en duurt tot ongeveer 15:00/15:30 uur. Meer informatie en het inschrijfformulier kunt u vinden op de website van IVN Mark &amp; Donge onder Activiteiten.</p>
LAST-MODIFIED:20260425T145809Z
LOCATION: IVN Mark & Donge |   Breda
SEQUENCE:0
STATUS:CONFIRMED
SUMMARY:IVN-dorpsplantenwandeling
TRANSP:OPAQUE
END:VEVENT
END:VCALENDAR
