BEGIN:VCALENDAR
PRODID:-//PUBBLE//agenda//NL
VERSION:2.0
METHOD:PUBLISH
BEGIN:VEVENT
DTSTART:20260424T100000Z
DTEND:20260626T121900Z
DTSTAMP:20260424T143546Z
UID:d8d4b21d-1f33-44b0-b309-65bc2c23aac7
CREATED:20260424T143546Z
NAME:Cultuur tijdens het middaguur (CTM) bredavandaag.nl
X-WR-CALNAME:Cultuur tijdens het middaguur (CTM)
X-ALT-DESC;FMTTYPE=text/html:<a href='/agenda/2026/4/24/cultuur-tijdens-het-middaguur-ctm--472729'>/agenda/2026/4/24/cultuur-tijdens-het-middaguur-ctm--472729</a> || <p>Klassieke muziek met professionele musici, ook hele jonge talenten, voor €5 (met Bredapas: gratis). Iedere vrijdag van 12:00 - 13:30 uur in de Waalse Kerk, Catharinastraat 83 in Breda. Website: www.cultuurtijdenshetmiddaguur.nl <br />24 april: Violiste Nina Broeva en pianist en Vital Shahievitch brengen het programma van E. Ysaÿe: op.12 F. Chopin: op.61 L. Beethoven: op.30 C.Saint-Saens: op.61</p>
DESCRIPTION:<a href='/agenda/2026/4/24/cultuur-tijdens-het-middaguur-ctm--472729'>/agenda/2026/4/24/cultuur-tijdens-het-middaguur-ctm--472729</a> || <p>Klassieke muziek met professionele musici, ook hele jonge talenten, voor €5 (met Bredapas: gratis). Iedere vrijdag van 12:00 - 13:30 uur in de Waalse Kerk, Catharinastraat 83 in Breda. Website: www.cultuurtijdenshetmiddaguur.nl <br />24 april: Violiste Nina Broeva en pianist en Vital Shahievitch brengen het programma van E. Ysaÿe: op.12 F. Chopin: op.61 L. Beethoven: op.30 C.Saint-Saens: op.61</p>
LAST-MODIFIED:20260424T143546Z
LOCATION: Waalse Kerk | Catharinastraat 83 Breda
SEQUENCE:0
STATUS:CONFIRMED
SUMMARY:Cultuur tijdens het middaguur (CTM)
TRANSP:OPAQUE
END:VEVENT
END:VCALENDAR
