BEGIN:VCALENDAR
PRODID:-//PUBBLE//agenda//NL
VERSION:2.0
METHOD:PUBLISH
BEGIN:VEVENT
DTSTART:20260428T100000Z
DTEND:20260428T110000Z
DTSTAMP:20260420T141722Z
UID:3bd87935-cae4-4525-acd5-47706a79d7d4
CREATED:20260420T141722Z
NAME:Repair Café bredavandaag.nl
X-WR-CALNAME:Repair Café
X-ALT-DESC;FMTTYPE=text/html:<a href='/agenda/2026/4/28/repair-cafe-472823'>/agenda/2026/4/28/repair-cafe-472823</a> || <p>Zaterdag 28 april staan de vrijwilligers weer klaar voor reparatie van kleine huishoudelijke apparaten, computers, telefoon, kleding, speelgoed, naaimachines en fietsen. Ook verloren gewaande foto’s in oude pc’s/tablets kunnen achterhaald worden. Reparaties zijn gratis, behalve de onderdelen en materialen. Donatie is welkom. Voor naaimachines vooraf aanmelden bij Henk Oomen, 06-15242474 of <a href="mailto:henk.oomen1948@hotmail.com">henk.oomen1948@hotmail.com</a></p>
DESCRIPTION:<a href='/agenda/2026/4/28/repair-cafe-472823'>/agenda/2026/4/28/repair-cafe-472823</a> || <p>Zaterdag 28 april staan de vrijwilligers weer klaar voor reparatie van kleine huishoudelijke apparaten, computers, telefoon, kleding, speelgoed, naaimachines en fietsen. Ook verloren gewaande foto’s in oude pc’s/tablets kunnen achterhaald worden. Reparaties zijn gratis, behalve de onderdelen en materialen. Donatie is welkom. Voor naaimachines vooraf aanmelden bij Henk Oomen, 06-15242474 of <a href="mailto:henk.oomen1948@hotmail.com">henk.oomen1948@hotmail.com</a></p>
LAST-MODIFIED:20260420T141722Z
LOCATION: De Dobbelsteen | Doelen 36 Breda
SEQUENCE:0
STATUS:CONFIRMED
SUMMARY:Repair Café
TRANSP:OPAQUE
END:VEVENT
END:VCALENDAR
